BEGIN:VCALENDAR
VERSION:2.0
PRODID:-//wp-events-plugin.com//7.2.3.1//EN
BEGIN:VEVENT
UID:47@letsmeet-lgbt.fr
DTSTART:20231201T170000Z
DTEND:20231201T230000Z
DTSTAMP:20231107T143650Z
URL:https://letsmeet-lgbt.fr/events/winter-party-lgbtqia2/
SUMMARY:Winter Party - LGBTQIA2
DESCRIPTION:Winter Party - LGBTQIA2 - Marseille\nLe rdv "Winter Party" à n
 e pas manquer au Mama Shelter !\n\nChaque mois\, Let’s Meet LGBT et ses 
 sublimes artistes vous proposent une soirée à thème gay-friendly dans c
 e magnifique Hôtel Boutique du 6ème arrondissement de Marseille !\n\nDot
 é d'une décoration design\, d'une carte de cocktails revisitée pour nos
  soirées et d'une restauration faite maison\, le Mama Shelter Marseille v
 ous garantit une ambiance espiègle et conviviale !\n\nOn vous donne rdv l
 e 01/12 avec DJ Ness Toria et Nicki Night pour un show glacial et très se
 nsuel...\nSortez vos Moon Boots\,  prenez vos écharpes\, bonnets gants..
 .  soyons à la montagne pour cette soirée innovante !\n\nEntrée libre 
 19h/1h\nRéservation uniquement pour le côté restauration 0662534135\n\n
 &nbsp\;
ATTACH;FMTTYPE=image/jpeg:https://letsmeet-lgbt.fr/wp-content/uploads/2023
 /11/winter-party-2-e1699367800669.jpg
CATEGORIES:Soirées
LOCATION:Mama Shelter\,  64\, rue de la Loubière\, Marseille\, 13006\, Fra
 nce
GEO:43.290399;5.389006
X-APPLE-STRUCTURED-LOCATION;VALUE=URI;X-ADDRESS= 64\, rue de la Loubière\,
  Marseille\, 13006\, France;X-APPLE-RADIUS=100;X-TITLE=Mama Shelter:geo:43
 .290399,5.389006
END:VEVENT
END:VCALENDAR