BEGIN:VCALENDAR
VERSION:2.0
PRODID:-//wp-events-plugin.com//7.2.3.1//EN
BEGIN:VEVENT
UID:48@letsmeet-lgbt.fr
DTSTART:20231217T150000Z
DTEND:20231217T210000Z
DTSTAMP:20231204T094840Z
URL:https://letsmeet-lgbt.fr/events/noel-party-special-tea-dance/
SUMMARY:Noël Party - Spécial Tea Dance
DESCRIPTION:Noël Party - Spécial Tea Dance\nPour le dernier rendez-vous 2
 023 de Let's Meet LGBT\, nous vous proposons un nouveau lieu exceptionnel 
 pour la Noël Party du dimanche 17 décembre en spécial Tea Dance de 17h 
 à 23h.\n\nPour clore cette belle année riche en émotions\, en nouveaut
 é et en diversité\, quoi de mieux qu'un lieu mythique de Marseille qui t
 ranspire la joie de vivre\, le talent\, les artistes ? Ouvrons ensemble le
 s festivités de fin d'année au Cabaret de L’Etoile Bleue !\n\nInformat
 ions\nSet Tea Dance de 17h à 23h :\nDj Sindee\, Ladyboy et Galit aux plat
 ines !\nAccompagnées de Nicki Night et Don Giovanna pour le show !\n\nIl 
 est impératif de réserver votre place pour ce moment d’exception !\n15
  € sur place\n12€ en ligne\n\nLe Cabaret de L’étoile Bleu offre un 
 cocktail de bienvenue pour votre entrée !\n\nAttention\, pour le côté m
 ange debout\, places limitées\, il y aura un côté Snacking salé et le 
 goûter de Noël :)\n\nUn bar très cabaret bleu \;)\n\n\n\n\n- soft entre
  4€ et 6 €\n\n- apéritif entre 7 et 9 €\n\n- cocktail sans alcool :
  8 €\n\n- cocktail alcool : 12 €\n\n- verre de vin : 6 €\n\n- boutei
 lle de vin (rouge\, blanc\, rosé) : entre 25 et 49 €\n\n- coupe de cha
 mpagne : 9 €\n\n- bouteille de champagne : entre 59 € et 99 €\n\nPou
 r le snacking :\n\n- entre 3 et 9\,50 €\n\n\n\n\n\n\nRéservations prév
 entes ouvertes du 26/11 à 12h jusqu'au 14/12/23 à 12h.\n\n\n
ATTACH;FMTTYPE=image/jpeg:https://letsmeet-lgbt.fr/wp-content/uploads/2023
 /11/noel-party2-e1699894522718.jpg
CATEGORIES:Evénements
LOCATION:Cabaret l'Étoile Bleue\,  107bis Bd Jeanne d'Arc\, Marseille\, 13
 005\, France
GEO:43.293199;5.375491
X-APPLE-STRUCTURED-LOCATION;VALUE=URI;X-ADDRESS= 107bis Bd Jeanne d'Arc\, M
 arseille\, 13005\, France;X-APPLE-RADIUS=100;X-TITLE=Cabaret l'Étoile Ble
 ue:geo:43.293199,5.375491
END:VEVENT
END:VCALENDAR