BEGIN:VCALENDAR
VERSION:2.0
PRODID:-//wp-events-plugin.com//7.2.3.1//EN
BEGIN:VEVENT
UID:22@letsmeet-lgbt.fr
DTSTART:20221202T170000Z
DTEND:20221202T230000Z
DTSTAMP:20221123T174517Z
URL:https://letsmeet-lgbt.fr/events/lets-meet-au-mama-shelter-en-decembre/
SUMMARY:Let's Meet au Mama Shelter en Décembre
DESCRIPTION:Let's Meet au Mama Shelter en Décembre !\nNous continuons cett
 e magnifique aventure au Mama Shelter.\nC’est avec joie et honneur que n
 ous accueillons Lylou Dallas pour un set très hippie chic le thème de vo
 tre soirée.\n\nElle va revisiter les tubes des années 70 à aujourd’hu
 i.\nNicki va nous faire le show très hippie chic surprise.\n\n19h/1h on a
 dore le Mama Shelter\, l’entrée est gratuite !\nRéservation pour une t
 able obligatoire au 0662534135.\n\nCôté drink c’est sans réservation 
 !
ATTACH;FMTTYPE=image/jpeg:https://letsmeet-lgbt.fr/wp-content/uploads/2022
 /11/02-12-22.jpg
CATEGORIES:Soirées
LOCATION:Mama Shelter\,  64\, rue de la Loubière\, Marseille\, 13006\, Fra
 nce
GEO:43.290399;5.389006
X-APPLE-STRUCTURED-LOCATION;VALUE=URI;X-ADDRESS= 64\, rue de la Loubière\,
  Marseille\, 13006\, France;X-APPLE-RADIUS=100;X-TITLE=Mama Shelter:geo:43
 .290399,5.389006
END:VEVENT
END:VCALENDAR